BEGIN:VCALENDAR
VERSION:2.0
PRODID:-//NBS//eStore//2026 ABC Early Bird
CALSCALE:GREGORIAN
METHOD:PUBLISH
BEGIN:VEVENT
DTSTART:20261008T073000
DTEND:20261008T153000
SUMMARY:2026 ABC Early Bird
LOCATION:315 Falls Ave, Twin Falls, ID 83301 , Twin Falls, ID, 83301
DESCRIPTION:<h1><strong>Great Scott! You’re Invited to the 8th Annual All Business Conference</strong></h1>
<p>&nbsp;</p>
<h2><strong>2026 ABC: Back to the Future of Business</strong></h2>
<p>&nbsp;</p>
<p>The business landscape of South-Central Idaho is changing faster than a DeLorean on an open highway. From AI integration to the next generation of leadership frameworks, the "future" is arriving ahead of schedule. Are you ready to floor it?</p>
<p>&nbsp;</p>
<p>In honor of the Idaho SBDC’s <strong>40th Anniversary</strong>, we are going retro-futuristic! Join us for a high-energy day designed to help small business owners and advocates navigate the shifting gears of our regional economy. We’re excited to be hosting our 8th annual All Business Conference with speakers and sessions to support small business owners and advocates navigate these changes.</p>
<p>&nbsp;</p>
<h3><strong>Are You an Early Bird?</strong></h3>
<p>&nbsp;</p>
<p>Early bird registration opens on 05/01/2026. Don’t miss your chance to be an early bird and purchase your tickets at $60. Once early bird pricing ends, tickets become will be available at $80.</p>
PRIORITY:3
END:VEVENT
END:VCALENDAR
