BEGIN:VCALENDAR
VERSION:2.0
PRODID:-//NBS//eStore//Start Up Seminar via Canvas - April 2026
CALSCALE:GREGORIAN
METHOD:PUBLISH
BEGIN:VEVENT
DTSTART:20260423T000000
DTEND:20260430T000000
SUMMARY:Start Up Seminar via Canvas - April 2026
LOCATION:202 Falls Avenue , Twin Falls, ID, 83301
DESCRIPTION:<h2>Want to start your first business but don't know where to begin? Consider this course your road map.</h2>
<p>&nbsp;</p>
<p>Our Online Start-Up Seminar covers everything you need to know to start and grow your business here in Idaho.</p>
<p>&nbsp;</p>
<p>What you'll learn from our course:</p>
<p>&nbsp;</p>
<ul>
<li><strong>Business Regulation Essentials:</strong>&nbsp;What you need to know (and do) before opening your doors</li>
<li><strong>Small Business Taxes:</strong>&nbsp;Key action items on what to do before and after your first sell</li>
<li><strong>What's A Business Plan and Why You Need One:</strong>&nbsp;Your guide post to starting and growing your business</li>
<li><strong>And much more!</strong></li>
</ul>
<p>&nbsp;</p>
<p>Hosted via Canvas, our Online Start-Up Seminar is self-paced. Once you've completed registration, you'll have access to the course for 30 days.</p>
<p>&nbsp;</p>
<p>Cost: $60</p>
<p>&nbsp;</p>
<p><strong>Have a business partner?</strong>&nbsp;Add them to the course at no additional cost.</p>
<p>&nbsp;</p>
<p>For additional information, please reach out to the office.</p>
<p>Phone: (208) 732-6450</p>
<p>Email: <a href="mailto:IdahoSBDC@csi.edu">IdahoSBDC@csi.edu</a></p>
<p>Address: 202 Falls Ave. Twin Falls, ID 83301</p>
PRIORITY:3
END:VEVENT
END:VCALENDAR
